BEGIN:VCALENDAR
VERSION:2.0
PRODID:-//Le réseau des DPO - ECPv6.15.20//NONSGML v1.0//EN
CALSCALE:GREGORIAN
METHOD:PUBLISH
X-WR-CALNAME:Le réseau des DPO
X-ORIGINAL-URL:https://supdpo.fr
X-WR-CALDESC:Évènements pour Le réseau des DPO
REFRESH-INTERVAL;VALUE=DURATION:PT1H
X-Robots-Tag:noindex
X-PUBLISHED-TTL:PT1H
BEGIN:VTIMEZONE
TZID:Europe/Paris
BEGIN:DAYLIGHT
TZOFFSETFROM:+0100
TZOFFSETTO:+0200
TZNAME:CEST
DTSTART:20210328T010000
END:DAYLIGHT
BEGIN:STANDARD
TZOFFSETFROM:+0200
TZOFFSETTO:+0100
TZNAME:CET
DTSTART:20211031T010000
END:STANDARD
BEGIN:DAYLIGHT
TZOFFSETFROM:+0100
TZOFFSETTO:+0200
TZNAME:CEST
DTSTART:20220327T010000
END:DAYLIGHT
BEGIN:STANDARD
TZOFFSETFROM:+0200
TZOFFSETTO:+0100
TZNAME:CET
DTSTART:20221030T010000
END:STANDARD
BEGIN:DAYLIGHT
TZOFFSETFROM:+0100
TZOFFSETTO:+0200
TZNAME:CEST
DTSTART:20230326T010000
END:DAYLIGHT
BEGIN:STANDARD
TZOFFSETFROM:+0200
TZOFFSETTO:+0100
TZNAME:CET
DTSTART:20231029T010000
END:STANDARD
END:VTIMEZONE
BEGIN:VEVENT
DTSTART;VALUE=DATE:20221117
DTEND;VALUE=DATE:20221118
DTSTAMP:20260421T233353
CREATED:20230201T090941Z
LAST-MODIFIED:20231115T123259Z
UID:1761-1668643200-1668729599@supdpo.fr
SUMMARY:Réunion annuelle 2022
DESCRIPTION:Accueil à partir de 9h \n  \n9h30 – 12h30 Matinée \n\n 9h30 Accueil et bienvenue\n10h00 Assemblée Générale\n\nPrésentation du réseau\nRessources documentaires SupDPO\nRetour sur l’organisation d’un GT au sein de SupDPO\n\n\n10h30 Le métier de DPO dans l’ESR\n\nPrésentation du métier de DPO par les plus anciens.\nMa vie de DPO dans l’ESR\n\n\n11h00-12h30 Interventions de la CNIL\n\nActualité sur la protection des données personnelles\nIntervention relative aux violations de données personnelles\nla consultation publique et la recommandation sur la télésurveillance des examens\nTemps de questions de la CNIL à SupDPO (actions à mettre en œuvre\, l’organisation de la protection des données au sein des ESR\, etc.)\n\n\n\n  \n13h30 – 17h00 Après midi \n\n13h45 Message de Marion Lehmans\, présidente SupDPO 2020-2022\n14h00 Présentation des GT 2022\n14h30 MESRI – Échanges avec les DPO\n\n15h00 Pause \n\n15h15 Intervention Bertrand Warusfel – thématique en cours\n16h30 Questions diverses\n\n17h00 Conclusion de la journée
URL:https://supdpo.fr/event/reunion-annuelle-2022/
LOCATION:Inspe de Lille : 365\, bis Rue Jules Guesde\, 59650 Villeneuve-d’Ascq
CATEGORIES:Réunion annuelle
END:VEVENT
END:VCALENDAR